BEGIN:VCALENDAR
VERSION:2.0
PRODID:-//Shelly Group SE//IR Calendar//EN
CALSCALE:GREGORIAN
BEGIN:VEVENT
UID:event-45@shelly-ir
DTSTART:20260505T000000Z
DTEND:20260505T000000Z
SUMMARY:Roadshow Stockholm, Sweden (Berenberg) 
LOCATION:Stockholm, Sweden
END:VEVENT
END:VCALENDAR