BEGIN:VCALENDAR
VERSION:2.0
PRODID:-//Shelly Group SE//IR Calendar//EN
CALSCALE:GREGORIAN
BEGIN:VEVENT
UID:event-46@shelly-ir
DTSTART:20260506T000000Z
DTEND:20260506T000000Z
SUMMARY:Roadshow Helsinki, Finland (Berenberg)
LOCATION:Helsinki, Finland
END:VEVENT
END:VCALENDAR